BEGIN:VCALENDAR
VERSION:2.0
PRODID:-//::Conselho Federal de Contabilidade:: - ECPv4.0.1//NONSGML v1.0//EN
CALSCALE:GREGORIAN
METHOD:PUBLISH
X-WR-CALNAME:::Conselho Federal de Contabilidade::
X-ORIGINAL-URL:https://cfc.org.br
X-WR-CALDESC:Events for ::Conselho Federal de Contabilidade::
BEGIN:VEVENT
DTSTART;TZID="America/Sao_Paulo":20220727T080000
DTEND;TZID="America/Sao_Paulo":20220728T180000
DTSTAMP:20260425T164747
CREATED:20220614T153630
LAST-MODIFIED:20220614T154915
UID:47372-1658908800-1659031200@cfc.org.br
SUMMARY:XXII USP International Conference in Accounting & XIX Congresso USP
DESCRIPTION:
URL:https://cfc.org.br/eventoscfc/xxii-usp-international-conference-in-accounting-xix-congresso-usp/
LOCATION:Rua Sebastião Taveira\, 268\, São Francisco\, Campo Grande\, MS\, 79010-480\, Brasil
CATEGORIES:Destaque,Próximos eventos
END:VEVENT
END:VCALENDAR