BEGIN:VCALENDAR
VERSION:2.0
PRODID:-//::Conselho Federal de Contabilidade:: - ECPv4.0.1//NONSGML v1.0//EN
CALSCALE:GREGORIAN
METHOD:PUBLISH
X-WR-CALNAME:::Conselho Federal de Contabilidade::
X-ORIGINAL-URL:https://cfc.org.br
X-WR-CALDESC:Events for ::Conselho Federal de Contabilidade::
BEGIN:VEVENT
DTSTART;VALUE=DATE:20221013
DTEND;VALUE=DATE:20221015
DTSTAMP:20260424T184451
CREATED:20220822
LAST-MODIFIED:20220822
UID:48744-1665619200-1665878399@cfc.org.br
SUMMARY:XVI Encontro Norte-Rio-Grandense de Ciências Contábeis (ENCC)
DESCRIPTION:
URL:https://cfc.org.br/eventoscfc/xvi-encontro-norte-rio-grandense-de-ciencias-contabeis-encc/
CATEGORIES:Destaque,Próximos eventos
END:VEVENT
END:VCALENDAR