BEGIN:VCALENDAR
VERSION:2.0
PRODID:-//::Conselho Federal de Contabilidade:: - ECPv4.0.1//NONSGML v1.0//EN
CALSCALE:GREGORIAN
METHOD:PUBLISH
X-WR-CALNAME:::Conselho Federal de Contabilidade::
X-ORIGINAL-URL:https://cfc.org.br
X-WR-CALDESC:Events for ::Conselho Federal de Contabilidade::
BEGIN:VEVENT
DTSTART;VALUE=DATE:20180402
DTEND;VALUE=DATE:20180406
DTSTAMP:20260424T085008
CREATED:20180103
LAST-MODIFIED:20190104
UID:15046-1522627200-1523059199@cfc.org.br
SUMMARY:10º EGP e XIV Secofem - Recife/PE
DESCRIPTION: \n\n\n\nPROGRAMAÇÃO EGP:\n\n10º Encontro de Gestores Públicos v16-03_CRCPE_FINAL\n\n \n\nPALESTRAS EGP:\n\nLEONARDO NASCIMENTO - A IMPORTÂNCIA DA MATRIZ DE SALDOS CONTÁBEIS NO ÂMBITO DO PROCESSO DE CONVERGÊNCIA E DA CONSOLIDAÇÃO DAS CONTAS NACIONAIS\n\nCASSIANO DE SOUZA - MODERNIZAÇÃO NA GESTÃO PÚBLICA \n\nCLAUDIA MAGALHÃES - QUALIDADE DAS INFORMAÇÕES DIVULGADAS NOS DEMONSTRATIVOS FISCAIS\n\nERNESTO CARNEIRO - TRANSFERÊNCIAS INTERGOVERNAMENTAIS\n\n RODRIGO LUBIANA -UTILIZANDO A MATRIZ DE SALDOS CONTÁBEIS INSTRUMENTO DE FISCALIZAÇÃO E CONTROLE\n\nALBERTO CARDOSO-MUDANÇAS NO CADASTRO DE DÍVIDA PÚBLICA PARA AS TRANSFERÊNCIAS VOLUNTÁRIAS\n\nALEX ALBERT- A ESTRATÉGIA DE FISCALIZAÇÃO DOS RPPS\n\nEDER VOGADO - PORTAL DE CUSTOS DO GOVERNO FEDERAL\n\nPEDRO TEIXEIRA DESTINAÇÃO DE RESÍDUOS SÓLIDOS- TRANSPORTE ESCOLAR EM PE\n\n \n\nGRADE TÉCNICA SECOFEM:\n\nGrade XIV SECOFEM Recife v27-03\n\n \n\nData: 2 a 6 de abril de 2018\n\nLocal:  Ministério da Fazenda\, situado à Rua Alfredo Lisboa\, 1168\, Bairro do Recife Antigo e são assim discriminados:\n\nSAMF/PE\n4º andar \nEncontro de Gestores Públicos. \n\n\nCentresaf/PE\n5º andar\nSECOFEM\n\nCidade: Recife/PE\n\nInscrições: www.cfc.org.br/eventos\n\nEvento em parceria: STN - Secretaria do Tesouro Nacional\n\nMaiores informações:\n\nDepartamento de Eventos do CFC\n\nTelefone: +55 61 33149419\n\nEmail: eventos@cfc.org.br\n\nClique aqui para acesso ao edital:  Edital SECOFEM 2018
URL:https://cfc.org.br/eventoscfc/xv-secofem-recife-pe/
CATEGORIES:Eventos realizados
END:VEVENT
END:VCALENDAR