BEGIN:VCALENDAR
VERSION:2.0
PRODID:-//::Conselho Federal de Contabilidade:: - ECPv4.0.1//NONSGML v1.0//EN
CALSCALE:GREGORIAN
METHOD:PUBLISH
X-WR-CALNAME:::Conselho Federal de Contabilidade::
X-ORIGINAL-URL:https://cfc.org.br
X-WR-CALDESC:Events for ::Conselho Federal de Contabilidade::
BEGIN:VEVENT
DTSTART;TZID="America/Sao_Paulo":20231122T080000
DTEND;TZID="America/Sao_Paulo":20231124T180000
DTSTAMP:20260423T015737
CREATED:20230227T200108
LAST-MODIFIED:20230524T150410
UID:52049-1700640000-1700848800@cfc.org.br
SUMMARY:X Convenção de Contabilidade do Estado do Pará - Belém/PA
DESCRIPTION: \n\n\n\nPara mais informações\, gentileza acessar:\n\nhttps://www.crcpa.org.br\n\n 
URL:https://cfc.org.br/eventoscfc/x-convencao-de-contabilidade-do-estado-do-para-belem-pa/
LOCATION:Belém\, PA\, Brasil
END:VEVENT
END:VCALENDAR