BEGIN:VCALENDAR
VERSION:2.0
PRODID:-//::Conselho Federal de Contabilidade:: - ECPv4.0.1//NONSGML v1.0//EN
CALSCALE:GREGORIAN
METHOD:PUBLISH
X-WR-CALNAME:::Conselho Federal de Contabilidade::
X-ORIGINAL-URL:https://cfc.org.br
X-WR-CALDESC:Events for ::Conselho Federal de Contabilidade::
BEGIN:VEVENT
DTSTART;TZID="America/Sao_Paulo":20240221T093000
DTEND;TZID="America/Sao_Paulo":20240221T113000
DTSTAMP:20260424T142456
CREATED:20240208T175134
LAST-MODIFIED:20240208T175134
UID:59457-1708507800-1708515000@cfc.org.br
SUMMARY:WEBINAR: FGTS DIGITAL – ENTENDENDO E COMPREENDENDO
DESCRIPTION:Palestrante: Gilmar Mendes Rodrigues Mediadora: Viviane Fernandes
URL:https://cfc.org.br/eventoscfc/webinar-fgts-digital-entendendo-e-compreendendo/
LOCATION:https://youtube.com/live/c3V-JP2PZQI?feature=share  
END:VEVENT
END:VCALENDAR