BEGIN:VCALENDAR
VERSION:2.0
PRODID:-//::Conselho Federal de Contabilidade:: - ECPv4.0.1//NONSGML v1.0//EN
CALSCALE:GREGORIAN
METHOD:PUBLISH
X-WR-CALNAME:::Conselho Federal de Contabilidade::
X-ORIGINAL-URL:https://cfc.org.br
X-WR-CALDESC:Events for ::Conselho Federal de Contabilidade::
BEGIN:VEVENT
DTSTART;TZID="America/Sao_Paulo":20240119T090000
DTEND;TZID="America/Sao_Paulo":20240119T120000
DTSTAMP:20260423T201011
CREATED:20240122T145507
LAST-MODIFIED:20240122T145507
UID:59085-1705654800-1705665600@cfc.org.br
SUMMARY:Simples Nacional para Médicos
DESCRIPTION:
URL:https://cfc.org.br/eventoscfc/simples-nacional-para-medicos/
END:VEVENT
END:VCALENDAR