BEGIN:VCALENDAR
VERSION:2.0
PRODID:-//::Conselho Federal de Contabilidade:: - ECPv4.0.1//NONSGML v1.0//EN
CALSCALE:GREGORIAN
METHOD:PUBLISH
X-WR-CALNAME:::Conselho Federal de Contabilidade::
X-ORIGINAL-URL:https://cfc.org.br
X-WR-CALDESC:Events for ::Conselho Federal de Contabilidade::
BEGIN:VEVENT
DTSTART;TZID="America/Sao_Paulo":20210326T140000
DTEND;TZID="America/Sao_Paulo":20210326T160000
DTSTAMP:20260422T035437
CREATED:20210830T153623
LAST-MODIFIED:20210830T231639
UID:41426-1616767200-1616774400@cfc.org.br
SUMMARY:IV Conexão Educa&Aprende AIC On-line - Tema: Mercado educacional em tempo de pandemia\, em Brasília (DF)
DESCRIPTION:
URL:https://cfc.org.br/eventoscfc/iv-conexao-educaaprende-aic-on-line-tema-mercado-educacional-em-tempo-de-pandemia-em-brasilia-df/
LOCATION:Brasília\, Brasil
CATEGORIES:Eventos realizados
END:VEVENT
END:VCALENDAR