BEGIN:VCALENDAR
VERSION:2.0
PRODID:-//::Conselho Federal de Contabilidade:: - ECPv4.0.1//NONSGML v1.0//EN
CALSCALE:GREGORIAN
METHOD:PUBLISH
X-WR-CALNAME:::Conselho Federal de Contabilidade::
X-ORIGINAL-URL:https://cfc.org.br
X-WR-CALDESC:Events for ::Conselho Federal de Contabilidade::
BEGIN:VEVENT
DTSTART;TZID="America/Sao_Paulo":20230308T080000
DTEND;TZID="America/Sao_Paulo":20230308T180000
DTSTAMP:20260423T040259
CREATED:20230223T143759
LAST-MODIFIED:20230321T194416
UID:51889-1678262400-1678298400@cfc.org.br
SUMMARY:II Fórum da Mulher Contabilista Belém/PA
DESCRIPTION:Para mais informações\, gentileza acessar:\n\nhttps://www.crcpa.org.br
URL:https://cfc.org.br/eventoscfc/ii-forum-da-mulher-contabilista-belem-pa/
CATEGORIES:Destaque,Eventos realizados
END:VEVENT
END:VCALENDAR