BEGIN:VCALENDAR
VERSION:2.0
PRODID:-//::Conselho Federal de Contabilidade:: - ECPv4.0.1//NONSGML v1.0//EN
CALSCALE:GREGORIAN
METHOD:PUBLISH
X-WR-CALNAME:::Conselho Federal de Contabilidade::
X-ORIGINAL-URL:https://cfc.org.br
X-WR-CALDESC:Events for ::Conselho Federal de Contabilidade::
BEGIN:VEVENT
DTSTART;TZID="America/Sao_Paulo":20231006T090000
DTEND;TZID="America/Sao_Paulo":20231006T090000
DTSTAMP:20260420T010714
CREATED:20230929T142327
LAST-MODIFIED:20230929T142327
UID:56450-1696582800-1696582800@cfc.org.br
SUMMARY:IDEATHON - SÉRIE HABILIDADES DIGITAIS: SEGURANÇA DIGITAL PARA CONTADORES - PROTEÇÃO NO MUNDO CIBERNÉTICO
DESCRIPTION:Evento não pontuado pelo EPC/CFC.\n\nMais sobre o evento: CRCPR
URL:https://cfc.org.br/eventoscfc/ideathon-serie-habilidades-digitais-seguranca-digital-para-contadores-protecao-no-mundo-cibernetico/
END:VEVENT
END:VCALENDAR