BEGIN:VCALENDAR
VERSION:2.0
PRODID:-//::Conselho Federal de Contabilidade:: - ECPv4.0.1//NONSGML v1.0//EN
CALSCALE:GREGORIAN
METHOD:PUBLISH
X-WR-CALNAME:::Conselho Federal de Contabilidade::
X-ORIGINAL-URL:https://cfc.org.br
X-WR-CALDESC:Events for ::Conselho Federal de Contabilidade::
BEGIN:VEVENT
DTSTART;TZID="America/Sao_Paulo":20231121T180000
DTEND;TZID="America/Sao_Paulo":20231121T220000
DTSTAMP:20260422T232419
CREATED:20231103T132711
LAST-MODIFIED:20231103T132711
UID:57105-1700589600-1700604000@cfc.org.br
SUMMARY:CURSO FGTS DIGITAL
DESCRIPTION:Presencial
URL:https://cfc.org.br/eventoscfc/curso-fgts-digital-2/
LOCATION:Av. Antônio Carlos Magalhães\, 436 - Eunápolis\, EUNÁPOLIS/BA
END:VEVENT
END:VCALENDAR