BEGIN:VCALENDAR
VERSION:2.0
PRODID:-//::Conselho Federal de Contabilidade:: - ECPv4.0.1//NONSGML v1.0//EN
CALSCALE:GREGORIAN
METHOD:PUBLISH
X-WR-CALNAME:::Conselho Federal de Contabilidade::
X-ORIGINAL-URL:https://cfc.org.br
X-WR-CALDESC:Events for ::Conselho Federal de Contabilidade::
BEGIN:VEVENT
DTSTART;TZID="America/Sao_Paulo":20250918T160000
DTEND;TZID="America/Sao_Paulo":20250918T180000
DTSTAMP:20260425T211540
CREATED:20250915T135656
LAST-MODIFIED:20250915T135656
UID:81428-1758211200-1758218400@cfc.org.br
SUMMARY:CRCSP - CRCSP para todos em Promissão Apresenta: Painel Interativo - Planejamento Tributário - O que Muda no Planejamento das Empresas com a Reforma Tributária
DESCRIPTION:Evento: Presencial\n\nLink da inscrição: https://crcsp.org.br/portal/desenvolvimento/cronograma-de-atividades/atividade.asp?c=96378
URL:https://cfc.org.br/eventoscfc/crcsp-crcsp-para-todos-em-promissao-apresenta-painel-interativo-planejamento-tributario-o-que-muda-no-planejamento-das-empresas-com-a-reforma-tributaria/
ORGANIZER;CN="CRCSP":MAILTO:lucianar@crcsp.org.br
END:VEVENT
END:VCALENDAR