BEGIN:VCALENDAR
VERSION:2.0
PRODID:-//::Conselho Federal de Contabilidade:: - ECPv4.0.1//NONSGML v1.0//EN
CALSCALE:GREGORIAN
METHOD:PUBLISH
X-WR-CALNAME:::Conselho Federal de Contabilidade::
X-ORIGINAL-URL:https://cfc.org.br
X-WR-CALDESC:Events for ::Conselho Federal de Contabilidade::
BEGIN:VEVENT
DTSTART;TZID="America/Sao_Paulo":20240719T093000
DTEND;TZID="America/Sao_Paulo":20240719T120000
DTSTAMP:20260425T194437
CREATED:20240708T131230
LAST-MODIFIED:20240708T131230
UID:66001-1721381400-1721390400@cfc.org.br
SUMMARY:CRCSP - CRCSP em Taboão da Serra Apresenta: Painel Interativo - Extinção da GIA-SP e a Evolução no SPED Fiscal
DESCRIPTION:Evento: Presencial\n\nLink de inscrição: https://online.crcsp.org.br/comum/complementares/cursos/info_cursos.aspx?lo=codcur95693\n\nObs.: Para mais informações entrar em contato com o CRCSP
URL:https://cfc.org.br/eventoscfc/crcsp-crcsp-em-taboao-da-serra-apresenta-painel-interativo-extincao-da-gia-sp-e-a-evolucao-no-sped-fiscal/
ORGANIZER;CN="CRCSP":MAILTO:luziel@crcsp.org.br
END:VEVENT
END:VCALENDAR