BEGIN:VCALENDAR
VERSION:2.0
PRODID:-//::Conselho Federal de Contabilidade:: - ECPv4.0.1//NONSGML v1.0//EN
CALSCALE:GREGORIAN
METHOD:PUBLISH
X-WR-CALNAME:::Conselho Federal de Contabilidade::
X-ORIGINAL-URL:https://cfc.org.br
X-WR-CALDESC:Events for ::Conselho Federal de Contabilidade::
BEGIN:VEVENT
DTSTART;TZID="America/Sao_Paulo":20250523T100000
DTEND;TZID="America/Sao_Paulo":20250523T113000
DTSTAMP:20260425T223718
CREATED:20250519T182831
LAST-MODIFIED:20250519T182831
UID:77353-1747994400-1747999800@cfc.org.br
SUMMARY:CRCSP - CRCSP e Trevisan Apresentam: Papel do Contador na Recuperação Judicial e na Falência
DESCRIPTION:Evento: On-line\n\nLink de inscrição: https://crcsp.org.br/portal/desenvolvimento/cronograma-de-atividades/atividade.asp?c=96166
URL:https://cfc.org.br/eventoscfc/crcsp-crcsp-e-trevisan-apresentam-papel-do-contador-na-recuperacao-judicial-e-na-falencia/
ORGANIZER;CN="CRCSP":MAILTO:lucianar@crcsp.org.br
END:VEVENT
END:VCALENDAR