BEGIN:VCALENDAR
VERSION:2.0
PRODID:-//::Conselho Federal de Contabilidade:: - ECPv4.0.1//NONSGML v1.0//EN
CALSCALE:GREGORIAN
METHOD:PUBLISH
X-WR-CALNAME:::Conselho Federal de Contabilidade::
X-ORIGINAL-URL:https://cfc.org.br
X-WR-CALDESC:Events for ::Conselho Federal de Contabilidade::
BEGIN:VEVENT
DTSTART;TZID="America/Sao_Paulo":20240719T150000
DTEND;TZID="America/Sao_Paulo":20240719T163000
DTSTAMP:20260425T171156
CREATED:20240708T132040
LAST-MODIFIED:20240708T132040
UID:66011-1721401200-1721406600@cfc.org.br
SUMMARY:CRCSP - CRCSP e APEJESP Apresentam: Perícia na Prática - Honorários Periciais - Dificuldades Enfrentadas na Elaboração da Proposta de Honorários
DESCRIPTION:Evento: On-line\n\nLink de inscrição: https://online.crcsp.org.br/comum/complementares/cursos/info_cursos.aspx?lo=codcur95687
URL:https://cfc.org.br/eventoscfc/crcsp-crcsp-e-apejesp-apresentam-pericia-na-pratica-honorarios-periciais-dificuldades-enfrentadas-na-elaboracao-da-proposta-de-honorarios/
ORGANIZER;CN="CRCSP":MAILTO:luziel@crcsp.org.br
END:VEVENT
END:VCALENDAR