BEGIN:VCALENDAR
VERSION:2.0
PRODID:-//::Conselho Federal de Contabilidade:: - ECPv4.0.1//NONSGML v1.0//EN
CALSCALE:GREGORIAN
METHOD:PUBLISH
X-WR-CALNAME:::Conselho Federal de Contabilidade::
X-ORIGINAL-URL:https://cfc.org.br
X-WR-CALDESC:Events for ::Conselho Federal de Contabilidade::
BEGIN:VEVENT
DTSTART;TZID="America/Sao_Paulo":20250919T150000
DTEND;TZID="America/Sao_Paulo":20250919T163000
DTSTAMP:20260425T182734
CREATED:20250915T140951
LAST-MODIFIED:20250915T140951
UID:81438-1758294000-1758299400@cfc.org.br
SUMMARY:CRCSP - CRCSP e APEJESP Apresentam: Ferramentas Digitais Reduzem Honorários e as IAs não Produzem Laudos Periciais - Devem ser Utilizadas Apenas como Apoio!
DESCRIPTION:Evento: On-line\n\nLink de inscrição: https://crcsp.org.br/portal/desenvolvimento/cronograma-de-atividades/atividade.asp?c=96385
URL:https://cfc.org.br/eventoscfc/crcsp-crcsp-e-apejesp-apresentam-ferramentas-digitais-reduzem-honorarios-e-as-ias-nao-produzem-laudos-periciais-devem-ser-utilizadas-apenas-como-apoio/
ORGANIZER;CN="CRCSP":MAILTO:lucianar@crcsp.org.br
END:VEVENT
END:VCALENDAR