BEGIN:VCALENDAR
VERSION:2.0
PRODID:-//::Conselho Federal de Contabilidade:: - ECPv4.0.1//NONSGML v1.0//EN
CALSCALE:GREGORIAN
METHOD:PUBLISH
X-WR-CALNAME:::Conselho Federal de Contabilidade::
X-ORIGINAL-URL:https://cfc.org.br
X-WR-CALDESC:Events for ::Conselho Federal de Contabilidade::
BEGIN:VEVENT
DTSTART;TZID="America/Sao_Paulo":20250918T190000
DTEND;TZID="America/Sao_Paulo":20250918T203000
DTSTAMP:20260425T194625
CREATED:20250915T140007
LAST-MODIFIED:20250915T140008
UID:81433-1758222000-1758227400@cfc.org.br
SUMMARY:CRCSP - CRCSP e ACE Catanduva Apresentam: Mesa Redonda sobre Reforma Tributária - O Futuro de São Paulo Pós-Reforma Tributária no Brasil
DESCRIPTION:Evento: Presencial\n\nLink da inscrição: https://crcsp.org.br/portal/desenvolvimento/cronograma-de-atividades/atividade.asp?c=96393
URL:https://cfc.org.br/eventoscfc/crcsp-crcsp-e-ace-catanduva-apresentam-mesa-redonda-sobre-reforma-tributaria-o-futuro-de-sao-paulo-pos-reforma-tributaria-no-brasil/
ORGANIZER;CN="CRCSP":MAILTO:lucianar@crcsp.org.br
END:VEVENT
END:VCALENDAR