BEGIN:VCALENDAR
VERSION:2.0
PRODID:-//::Conselho Federal de Contabilidade:: - ECPv4.0.1//NONSGML v1.0//EN
CALSCALE:GREGORIAN
METHOD:PUBLISH
X-WR-CALNAME:::Conselho Federal de Contabilidade::
X-ORIGINAL-URL:https://cfc.org.br
X-WR-CALDESC:Events for ::Conselho Federal de Contabilidade::
BEGIN:VEVENT
DTSTART;TZID="America/Sao_Paulo":20240723T123000
DTEND;TZID="America/Sao_Paulo":20240723T180000
DTSTAMP:20260426T035845
CREATED:20240719T121119
LAST-MODIFIED:20240719T121119
UID:66326-1721737800-1721757600@cfc.org.br
SUMMARY:CRCSP - Circuito Contábil Tributário em Jundiaí
DESCRIPTION:Evento: Presencial\n\nLink de inscrição: https://crcsp.org.br/portal/desenvolvimento/cronograma-de-atividades/atividade.asp?c=95717\n\nObs.: Para mais informações entrar em contato com o CRCSP
URL:https://cfc.org.br/eventoscfc/crcsp-circuito-contabil-tributario-em-jundiai/
ORGANIZER;CN="CRCSP":MAILTO:lucianar@crcsp.org.br
END:VEVENT
END:VCALENDAR