BEGIN:VCALENDAR
VERSION:2.0
PRODID:-//::Conselho Federal de Contabilidade:: - ECPv4.0.1//NONSGML v1.0//EN
CALSCALE:GREGORIAN
METHOD:PUBLISH
X-WR-CALNAME:::Conselho Federal de Contabilidade::
X-ORIGINAL-URL:https://cfc.org.br
X-WR-CALDESC:Events for ::Conselho Federal de Contabilidade::
BEGIN:VEVENT
DTSTART;TZID="America/Sao_Paulo":20240105T080000
DTEND;TZID="America/Sao_Paulo":20240630T170000
DTSTAMP:20260425T141433
CREATED:20240422T141112
LAST-MODIFIED:20240422T141112
UID:62706-1704441600-1719766800@cfc.org.br
SUMMARY:CRCSP - AUTOESTUDO - PROVISÕES\, PASSIVOS CONTINGENTES E ATIVOS CONTINGENTES - NBC TG 25 (R2)
DESCRIPTION:Link de inscrição: https://online.crcsp.org.br/comum/complementares/cursos/visualiza_auto_estudo.aspx?cod=785
URL:https://cfc.org.br/eventoscfc/crcsp-autoestudo-provisoes-passivos-contingentes-e-ativos-contingentes-nbc-tg-25-r2/
END:VEVENT
END:VCALENDAR