BEGIN:VCALENDAR
VERSION:2.0
PRODID:-//::Conselho Federal de Contabilidade:: - ECPv4.0.1//NONSGML v1.0//EN
CALSCALE:GREGORIAN
METHOD:PUBLISH
X-WR-CALNAME:::Conselho Federal de Contabilidade::
X-ORIGINAL-URL:https://cfc.org.br
X-WR-CALDESC:Events for ::Conselho Federal de Contabilidade::
BEGIN:VEVENT
DTSTART;TZID="America/Sao_Paulo":20240722T080000
DTEND;TZID="America/Sao_Paulo":20241231T170000
DTSTAMP:20260425T195359
CREATED:20240809T141026
LAST-MODIFIED:20240809T141026
UID:67102-1721635200-1735664400@cfc.org.br
SUMMARY:CRCSP - Autoestudo - Contabilidade na Construção Civil de acordo com as Novas Regras Contábeis e a Legislação Fiscal
DESCRIPTION:Evento: On-line\n\nLink de inscrição: https://online.crcsp.org.br/comum/complementares/cursos/visualiza_auto_estudo.aspx?cod=822
URL:https://cfc.org.br/eventoscfc/crcsp-autoestudo-contabilidade-na-construcao-civil-de-acordo-com-as-novas-regras-contabeis-e-a-legislacao-fiscal/
ORGANIZER;CN="CRCSP":MAILTO:lucianar@crcsp.org.br
END:VEVENT
END:VCALENDAR