BEGIN:VCALENDAR
VERSION:2.0
PRODID:-//::Conselho Federal de Contabilidade:: - ECPv4.0.1//NONSGML v1.0//EN
CALSCALE:GREGORIAN
METHOD:PUBLISH
X-WR-CALNAME:::Conselho Federal de Contabilidade::
X-ORIGINAL-URL:https://cfc.org.br
X-WR-CALDESC:Events for ::Conselho Federal de Contabilidade::
BEGIN:VEVENT
DTSTART;TZID="America/Sao_Paulo":20240723T090000
DTEND;TZID="America/Sao_Paulo":20240723T110000
DTSTAMP:20260426T023919
CREATED:20240606T140704
LAST-MODIFIED:20240606T140704
UID:64630-1721725200-1721732400@cfc.org.br
SUMMARY:CRCSC - Palestra "Liderança: Desafios e Oportunidades do Mercado para Mulher Contadora"
DESCRIPTION:Evento: On-line\n\nLink de inscrição: Eventos (crcsc.org.br)
URL:https://cfc.org.br/eventoscfc/crcsc-palestra-lideranca-desafios-e-oportunidades-do-mercado-para-mulher-contadora/
ORGANIZER;CN="CRCSC":MAILTO:coordenador.desenvolvimento@crcsc.org.br
END:VEVENT
END:VCALENDAR