BEGIN:VCALENDAR
VERSION:2.0
PRODID:-//::Conselho Federal de Contabilidade:: - ECPv4.0.1//NONSGML v1.0//EN
CALSCALE:GREGORIAN
METHOD:PUBLISH
X-WR-CALNAME:::Conselho Federal de Contabilidade::
X-ORIGINAL-URL:https://cfc.org.br
X-WR-CALDESC:Events for ::Conselho Federal de Contabilidade::
BEGIN:VEVENT
DTSTART;TZID="America/Sao_Paulo":20250522T160000
DTEND;TZID="America/Sao_Paulo":20250522T170000
DTSTAMP:20260426T013051
CREATED:20250505T123644
LAST-MODIFIED:20250505T123644
UID:76880-1747929600-1747933200@cfc.org.br
SUMMARY:CRCRS - Webinar Gestão de Riscos na Contabilidade: Estratégias e Ferramentas para a Prevenção
DESCRIPTION:Evento: On-line\n\nPalestrantes: Denis Carraro - Coordenador da Comissão de Estudos de Governança e Compliance do CRCRS;\n\nGabriela Macedo – Integrante da Comissão de Estudos de Governança e Compliance do CRCRS.\n\nLink de inscrição será disponibilizado durante a transmissão ao vivo.
URL:https://cfc.org.br/eventoscfc/crcrs-webinar-gestao-de-riscos-na-contabilidade-estrategias-e-ferramentas-para-a-prevencao/
ORGANIZER;CN="CRCRS":MAILTO:luciane@crcrs.org.br
END:VEVENT
END:VCALENDAR