BEGIN:VCALENDAR
VERSION:2.0
PRODID:-//::Conselho Federal de Contabilidade:: - ECPv4.0.1//NONSGML v1.0//EN
CALSCALE:GREGORIAN
METHOD:PUBLISH
X-WR-CALNAME:::Conselho Federal de Contabilidade::
X-ORIGINAL-URL:https://cfc.org.br
X-WR-CALDESC:Events for ::Conselho Federal de Contabilidade::
BEGIN:VEVENT
DTSTART;TZID="America/Sao_Paulo":20250529T160000
DTEND;TZID="America/Sao_Paulo":20250529T170000
DTSTAMP:20260425T193912
CREATED:20250505T124055
LAST-MODIFIED:20250505T124055
UID:76885-1748534400-1748538000@cfc.org.br
SUMMARY:CRCRS - Webinar Competências do Contador Gerencial e/ou do Controller
DESCRIPTION:Evento: On-line\n\nPalestrantes: Andréia Pimentel da Silva - Gerente Regional da CEDEM/FDCI;\n\nMarcelo Silva – Integrante da Comissão de Estudos em Controladoria do CRCRS;\n\nVinícius Costa da Silva Zonatto - Integrante da Comissão de Estudos em Controladoria do CRCRS.\n\nLink de inscrição será disponibilizado durante a transmissão ao vivo.
URL:https://cfc.org.br/eventoscfc/crcrs-webinar-competencias-do-contador-gerencial-e-ou-do-controller/
ORGANIZER;CN="CRCRS":MAILTO:luciane@crcrs.org.br
END:VEVENT
END:VCALENDAR