BEGIN:VCALENDAR
VERSION:2.0
PRODID:-//::Conselho Federal de Contabilidade:: - ECPv4.0.1//NONSGML v1.0//EN
CALSCALE:GREGORIAN
METHOD:PUBLISH
X-WR-CALNAME:::Conselho Federal de Contabilidade::
X-ORIGINAL-URL:https://cfc.org.br
X-WR-CALDESC:Events for ::Conselho Federal de Contabilidade::
BEGIN:VEVENT
DTSTART;TZID="America/Sao_Paulo":20240719T160000
DTEND;TZID="America/Sao_Paulo":20240719T170000
DTSTAMP:20260425T182545
CREATED:20240718T131530
LAST-MODIFIED:20240718T131530
UID:66275-1721404800-1721408400@cfc.org.br
SUMMARY:CRCRS - DIRBI - Declaração de Incentivos\, Renúncias\, Benefícios e Imunidades de Natureza Tributária
DESCRIPTION:Evento: On-line\n\nPalestrante: Lilian Martins - Contadora; Professora Universitária; Pós-Graduada em Controladoria e Contabilidade.\n\nObs.: Para mais informações entrar em contato com o CRCRS.
URL:https://cfc.org.br/eventoscfc/crcrs-dirbi-declaracao-de-incentivos-renuncias-beneficios-e-imunidades-de-natureza-tributaria/
ORGANIZER;CN="CRCRS":MAILTO:luciane@crcrs.org.br
END:VEVENT
END:VCALENDAR