BEGIN:VCALENDAR
VERSION:2.0
PRODID:-//::Conselho Federal de Contabilidade:: - ECPv4.0.1//NONSGML v1.0//EN
CALSCALE:GREGORIAN
METHOD:PUBLISH
X-WR-CALNAME:::Conselho Federal de Contabilidade::
X-ORIGINAL-URL:https://cfc.org.br
X-WR-CALDESC:Events for ::Conselho Federal de Contabilidade::
BEGIN:VEVENT
DTSTART;TZID="America/Sao_Paulo":20250527T090000
DTEND;TZID="America/Sao_Paulo":20250527T090000
DTSTAMP:20260425T222950
CREATED:20250508T165658
LAST-MODIFIED:20250508T165658
UID:76987-1748336400-1748336400@cfc.org.br
SUMMARY:CRCPR - Governança Corporativa: Uma Visão Integrada entre as Empresas e a Auditoria Contábil
DESCRIPTION:Evento: On-line\n\nPalestrante: Jerri Ribeiro - 32 anos de Experiência em Governança Corporativa; Conselheiro; Membro de Comitê de Auditoria; Consultor Sênior; Professor; Palestrante.\n\nLink de inscrição: https://www2.crcpr.org.br/desenprofi/portal/eventos/detalhe/1543\n\nCapacitadora: PR-0001\nCurso: PR-04010\nPontuação EPC: 1 ponto para todas as funções
URL:https://cfc.org.br/eventoscfc/crcpr-governanca-corporativa-uma-visao-integrada-entre-as-empresas-e-a-auditoria-contabil/
ORGANIZER;CN="CRCPR":MAILTO:sibelli.cristina@crcpr.org.br
END:VEVENT
END:VCALENDAR