BEGIN:VCALENDAR
VERSION:2.0
PRODID:-//::Conselho Federal de Contabilidade:: - ECPv4.0.1//NONSGML v1.0//EN
CALSCALE:GREGORIAN
METHOD:PUBLISH
X-WR-CALNAME:::Conselho Federal de Contabilidade::
X-ORIGINAL-URL:https://cfc.org.br
X-WR-CALDESC:Events for ::Conselho Federal de Contabilidade::
BEGIN:VEVENT
DTSTART;TZID="America/Sao_Paulo":20260310T090000
DTEND;TZID="America/Sao_Paulo":20260310T090000
DTSTAMP:20260422T054924
CREATED:20260223T113526
LAST-MODIFIED:20260223T113526
UID:86938-1773133200-1773133200@cfc.org.br
SUMMARY:CRCPR - Escola Técnica Reforma Tributária - Planejamento Tributário (Aula 9)
DESCRIPTION:Evento: On-line\n\nPalestrante: Adriano Pereira Subirá - Atua na Receita Federal há 33 anos\, com larga experiência na elaboração de políticas fiscais\, coordena discussões e contribui diretamente para a redação da reforma tributária.\n\nLink de inscrição: https://www2.crcpr.org.br/desenprofi/portal/eventos/detalhe/1726
URL:https://cfc.org.br/eventoscfc/crcpr-escola-tecnica-reforma-tributaria-planejamento-tributario-aula-9/
ORGANIZER;CN="CRCPR":MAILTO:sibelli.cristina@crcpr.org.br
END:VEVENT
END:VCALENDAR