BEGIN:VCALENDAR
VERSION:2.0
PRODID:-//::Conselho Federal de Contabilidade:: - ECPv4.0.1//NONSGML v1.0//EN
CALSCALE:GREGORIAN
METHOD:PUBLISH
X-WR-CALNAME:::Conselho Federal de Contabilidade::
X-ORIGINAL-URL:https://cfc.org.br
X-WR-CALDESC:Events for ::Conselho Federal de Contabilidade::
BEGIN:VEVENT
DTSTART;TZID="America/Sao_Paulo":20250528T090000
DTEND;TZID="America/Sao_Paulo":20250528T090000
DTSTAMP:20260425T182433
CREATED:20250508T170249
LAST-MODIFIED:20250508T170249
UID:76992-1748422800-1748422800@cfc.org.br
SUMMARY:CRCPR - Escola Técnica CRCPR - Transformação Digital na Contabilidade: Como Escalar e Aumentar Honorários
DESCRIPTION:Evento: On-line\n\nPalestrante: Fabiano André de Souza - Diretor de Consultoria; Mentor Empresarial; Especialista em Gestão Estratégia e Transformação.\nFundador da Trajetória Consultoria e da View Software House.\n\nLink de inscrição: https://www2.crcpr.org.br/desenprofi/portal/eventos/detalhe/1525\n\nCapacitadora: PR-00001\nCódigo do Curso: PR-03989\nPontuação EPC: 1 ponto par AUD\, PERITO\, PROGP E PRORT.
URL:https://cfc.org.br/eventoscfc/crcpr-escola-tecnica-crcpr-transformacao-digital-na-contabilidade-como-escalar-e-aumentar-honorarios/
ORGANIZER;CN="CRCPR":MAILTO:sibelli.cristina@crcpr.org.br
END:VEVENT
END:VCALENDAR