BEGIN:VCALENDAR
VERSION:2.0
PRODID:-//::Conselho Federal de Contabilidade:: - ECPv4.0.1//NONSGML v1.0//EN
CALSCALE:GREGORIAN
METHOD:PUBLISH
X-WR-CALNAME:::Conselho Federal de Contabilidade::
X-ORIGINAL-URL:https://cfc.org.br
X-WR-CALDESC:Events for ::Conselho Federal de Contabilidade::
BEGIN:VEVENT
DTSTART;TZID="America/Sao_Paulo":20260326T090000
DTEND;TZID="America/Sao_Paulo":20260326T120000
DTSTAMP:20260420T194001
CREATED:20260304T132842
LAST-MODIFIED:20260304T132842
UID:87311-1774515600-1774526400@cfc.org.br
SUMMARY:CRCPE - Notas Técnicas da Reforma Tributária para Profissionais e Empresas – Principais Mudanças e Eventos
DESCRIPTION:Evento: On-line\n\nPalestrante: Inês Oliveira\n\nLink de inscrição:  https://crcpe.org.br/sistema-de-cursos/
URL:https://cfc.org.br/eventoscfc/crcpe-notas-tecnicas-da-reforma-tributaria-para-profissionais-e-empresas-principais-mudancas-e-eventos-2/
ORGANIZER;CN="CRCPE":MAILTO:educacao@crcpe.org.br
END:VEVENT
END:VCALENDAR