BEGIN:VCALENDAR
VERSION:2.0
PRODID:-//::Conselho Federal de Contabilidade:: - ECPv4.0.1//NONSGML v1.0//EN
CALSCALE:GREGORIAN
METHOD:PUBLISH
X-WR-CALNAME:::Conselho Federal de Contabilidade::
X-ORIGINAL-URL:https://cfc.org.br
X-WR-CALDESC:Events for ::Conselho Federal de Contabilidade::
BEGIN:VEVENT
DTSTART;TZID="America/Sao_Paulo":20260325T083000
DTEND;TZID="America/Sao_Paulo":20260325T123000
DTSTAMP:20260421T010625
CREATED:20260304T132016
LAST-MODIFIED:20260304T132016
UID:87306-1774427400-1774441800@cfc.org.br
SUMMARY:CRCPE - ICMS Venda Interestadual a Consumidor Final
DESCRIPTION:Evento: On-line\n\nPalestrante: Rodrigo Dias\n\nLink de inscrição: https://crcpe.org.br/sistema-de-cursos/
URL:https://cfc.org.br/eventoscfc/crcpe-icms-venda-interestadual-a-consumidor-final-2/
ORGANIZER;CN="CRCPE":MAILTO:educacao@crcpe.org.br
END:VEVENT
END:VCALENDAR