BEGIN:VCALENDAR
VERSION:2.0
PRODID:-//::Conselho Federal de Contabilidade:: - ECPv4.0.1//NONSGML v1.0//EN
CALSCALE:GREGORIAN
METHOD:PUBLISH
X-WR-CALNAME:::Conselho Federal de Contabilidade::
X-ORIGINAL-URL:https://cfc.org.br
X-WR-CALDESC:Events for ::Conselho Federal de Contabilidade::
BEGIN:VEVENT
DTSTART;TZID="America/Sao_Paulo":20260407T203000
DTEND;TZID="America/Sao_Paulo":20260407T203000
DTSTAMP:20260420T111932
CREATED:20260304T134322
LAST-MODIFIED:20260304T134322
UID:87326-1775593800-1775593800@cfc.org.br
SUMMARY:CRCPE - Agentes de IA e Automação de Processos com Foco na Reforma Tributária
DESCRIPTION:Evento: On-line\n\nPalestrante: Carlos Chelfo\n\nLink de inscrição: https://crcpe.org.br/sistema-de-cursos/
URL:https://cfc.org.br/eventoscfc/crcpe-agentes-de-ia-e-automacao-de-processos-com-foco-na-reforma-tributaria/
ORGANIZER;CN="CRCPE":MAILTO:educacao@crcpe.org.br
END:VEVENT
END:VCALENDAR