BEGIN:VCALENDAR
VERSION:2.0
PRODID:-//::Conselho Federal de Contabilidade:: - ECPv4.0.1//NONSGML v1.0//EN
CALSCALE:GREGORIAN
METHOD:PUBLISH
X-WR-CALNAME:::Conselho Federal de Contabilidade::
X-ORIGINAL-URL:https://cfc.org.br
X-WR-CALDESC:Events for ::Conselho Federal de Contabilidade::
BEGIN:VEVENT
DTSTART;TZID="America/Sao_Paulo":20260325T090000
DTEND;TZID="America/Sao_Paulo":20260325T090000
DTSTAMP:20260420T231735
CREATED:20260224T144201
LAST-MODIFIED:20260304T125300
UID:87045-1774429200-1774429200@cfc.org.br
SUMMARY:CRCMG - Café com o Contabilista sobre o Tema “Reforma Tributária do IBS/ICMS – Perspectiva da Comissão de Interlocução entre o CRCMG e a SEF/MG"
DESCRIPTION:Evento: On-line\n\nPalestrantes: Servidores da Secretaria de Estado de Fazenda de Minas Gerais (SEF/MG).\n\nLink de inscrição: https://crcmg.org.br/desenvolvimento-profissional/inscricoes?termosid=128&mes&ano\n\nLink do Youtube: https://youtube.com/live/81bNhI6yTuc?feature=share\n\nPontuação e certificado aos participantes inscritos que atingirem 75% de presença na TV CRCMG\, no YouTube.\n\nPontuação no Programa de Educação Profissional Continuada: AUD: 2; PROGP-RT: 2; PERITOS: 2
URL:https://cfc.org.br/eventoscfc/crcmg-cafe-com-o-contabilista-sobre-o-tema-reforma-tributaria-a-nova-lei-complementar-n-o-227-2026/
ORGANIZER;CN="CRCMG":MAILTO:gedep@crcmg.org.br
END:VEVENT
END:VCALENDAR