BEGIN:VCALENDAR
VERSION:2.0
PRODID:-//::Conselho Federal de Contabilidade:: - ECPv4.0.1//NONSGML v1.0//EN
CALSCALE:GREGORIAN
METHOD:PUBLISH
X-WR-CALNAME:::Conselho Federal de Contabilidade::
X-ORIGINAL-URL:https://cfc.org.br
X-WR-CALDESC:Events for ::Conselho Federal de Contabilidade::
BEGIN:VEVENT
DTSTART;TZID="America/Sao_Paulo":20240614T140000
DTEND;TZID="America/Sao_Paulo":20240614T180000
DTSTAMP:20260425T182424
CREATED:20240524T122051
LAST-MODIFIED:20240524T122051
UID:64107-1718373600-1718388000@cfc.org.br
SUMMARY:CRCES - Procedimento de Cadastro e Formalização no FUNDAP/ES
DESCRIPTION:Evento: On-line / Zoom\n\nLink inscrição: https://www1.cfc.org.br/evento?BW6
URL:https://cfc.org.br/eventoscfc/crces-procedimento-de-cadastro-e-formalizacao-no-fundap-es/
ORGANIZER;CN="CRCES":MAILTO:ead@crc-es.org.br
END:VEVENT
END:VCALENDAR