BEGIN:VCALENDAR
VERSION:2.0
PRODID:-//::Conselho Federal de Contabilidade:: - ECPv4.0.1//NONSGML v1.0//EN
CALSCALE:GREGORIAN
METHOD:PUBLISH
X-WR-CALNAME:::Conselho Federal de Contabilidade::
X-ORIGINAL-URL:https://cfc.org.br
X-WR-CALDESC:Events for ::Conselho Federal de Contabilidade::
BEGIN:VEVENT
DTSTART;TZID="America/Sao_Paulo":20260309T083000
DTEND;TZID="America/Sao_Paulo":20260309T173000
DTSTAMP:20260422T071956
CREATED:20260304T123026
LAST-MODIFIED:20260304T123026
UID:87266-1773045000-1773077400@cfc.org.br
SUMMARY:CRCES - Introdução à Reforma Tributária
DESCRIPTION:Evento: On-line\n\nLink de inscrição: https://www1.cfc.org.br/evento
URL:https://cfc.org.br/eventoscfc/crces-introducao-a-reforma-tributaria/
ORGANIZER;CN="CRCES":MAILTO:eventos02@crc-es.org.br
END:VEVENT
END:VCALENDAR