BEGIN:VCALENDAR
VERSION:2.0
PRODID:-//::Conselho Federal de Contabilidade:: - ECPv4.0.1//NONSGML v1.0//EN
CALSCALE:GREGORIAN
METHOD:PUBLISH
X-WR-CALNAME:::Conselho Federal de Contabilidade::
X-ORIGINAL-URL:https://cfc.org.br
X-WR-CALDESC:Events for ::Conselho Federal de Contabilidade::
BEGIN:VEVENT
DTSTART;TZID="America/Sao_Paulo":20260326T200000
DTEND;TZID="America/Sao_Paulo":20260326T200000
DTSTAMP:20260420T180537
CREATED:20260304T124704
LAST-MODIFIED:20260304T124704
UID:87286-1774555200-1774555200@cfc.org.br
SUMMARY:CRCES - Conversa de Contadoras – Tema: Lucrando com a Declaração de Imposto de Renda
DESCRIPTION:Evento: On-line\n\nLink de inscrição: https://www1.cfc.org.br/evento
URL:https://cfc.org.br/eventoscfc/crces-conversa-de-contadoras-tema-lucrando-com-a-declaracao-de-imposto-de-renda/
ORGANIZER;CN="CRCES":MAILTO:eventos02@crc-es.org.br
END:VEVENT
END:VCALENDAR