BEGIN:VCALENDAR
VERSION:2.0
PRODID:-//::Conselho Federal de Contabilidade:: - ECPv4.0.1//NONSGML v1.0//EN
CALSCALE:GREGORIAN
METHOD:PUBLISH
X-WR-CALNAME:::Conselho Federal de Contabilidade::
X-ORIGINAL-URL:https://cfc.org.br
X-WR-CALDESC:Events for ::Conselho Federal de Contabilidade::
BEGIN:VEVENT
DTSTART;TZID="America/Sao_Paulo":20250922T090000
DTEND;TZID="America/Sao_Paulo":20250922T090000
DTSTAMP:20260425T182901
CREATED:20250912T174704
LAST-MODIFIED:20250912T174704
UID:81217-1758531600-1758531600@cfc.org.br
SUMMARY:CRCES - Captação Recursos para Organizações Sociais - Terceiro Setor
DESCRIPTION:Evento: Presencial\n\nPalestrantes: Samuel e Soleane
URL:https://cfc.org.br/eventoscfc/crces-captacao-recursos-para-organizacoes-sociais-terceiro-setor/
ORGANIZER;CN="CRCES":MAILTO:ead@crc-es.org.br
END:VEVENT
END:VCALENDAR