BEGIN:VCALENDAR
VERSION:2.0
PRODID:-//::Conselho Federal de Contabilidade:: - ECPv4.0.1//NONSGML v1.0//EN
CALSCALE:GREGORIAN
METHOD:PUBLISH
X-WR-CALNAME:::Conselho Federal de Contabilidade::
X-ORIGINAL-URL:https://cfc.org.br
X-WR-CALDESC:Events for ::Conselho Federal de Contabilidade::
BEGIN:VEVENT
DTSTART;TZID="America/Sao_Paulo":20240723T140000
DTEND;TZID="America/Sao_Paulo":20240723T180000
DTSTAMP:20260426T041135
CREATED:20240621T142855
LAST-MODIFIED:20240621T142855
UID:65253-1721743200-1721757600@cfc.org.br
SUMMARY:CRCES - Apuração dos Impostos no FUNDAP/ES
DESCRIPTION:Evento: On-line / Zoom (pago)\n\nPalestrante: Jacke Pontual\n\nObs.: Para mais informações entrar em contato com o CRCES
URL:https://cfc.org.br/eventoscfc/crces-apuracao-dos-impostos-no-fundap-es/
ORGANIZER;CN="CRCES":MAILTO:ead@crc-es.org.br
END:VEVENT
END:VCALENDAR