BEGIN:VCALENDAR
VERSION:2.0
PRODID:-//::Conselho Federal de Contabilidade:: - ECPv4.0.1//NONSGML v1.0//EN
CALSCALE:GREGORIAN
METHOD:PUBLISH
X-WR-CALNAME:::Conselho Federal de Contabilidade::
X-ORIGINAL-URL:https://cfc.org.br
X-WR-CALDESC:Events for ::Conselho Federal de Contabilidade::
BEGIN:VEVENT
DTSTART;TZID="America/Sao_Paulo":20250529T080000
DTEND;TZID="America/Sao_Paulo":20250529T170000
DTSTAMP:20260425T194314
CREATED:20250424T113518
LAST-MODIFIED:20250424T113518
UID:76619-1748505600-1748538000@cfc.org.br
SUMMARY:CRCBA - Seminário: Convergência Contábil: Desafios Trabalhistas e Inteligência Emocional
DESCRIPTION:Evento: Presencial\n\nPalestrantes: Antônio Carlos Ribeiro e Gilmar Mendes\n\nLink de inscrição: https://www1.cfc.org.br/evento?W4D
URL:https://cfc.org.br/eventoscfc/crcba-seminario-convergencia-contabil-desafios-trabalhistas-e-inteligencia-emocional/
LOCATION:Av. Osvaldo Cruz\, 74 - Boa Vista\, Ilhéus/BA
ORGANIZER;CN="CRCBA":MAILTO:desenprof@crc-ba.org.br
END:VEVENT
END:VCALENDAR