BEGIN:VCALENDAR
VERSION:2.0
PRODID:-//::Conselho Federal de Contabilidade:: - ECPv4.0.1//NONSGML v1.0//EN
CALSCALE:GREGORIAN
METHOD:PUBLISH
X-WR-CALNAME:::Conselho Federal de Contabilidade::
X-ORIGINAL-URL:https://cfc.org.br
X-WR-CALDESC:Events for ::Conselho Federal de Contabilidade::
BEGIN:VEVENT
DTSTART;TZID="America/Sao_Paulo":20260327T073000
DTEND;TZID="America/Sao_Paulo":20260327T120000
DTSTAMP:20260420T162721
CREATED:20260304T150322
LAST-MODIFIED:20260304T150322
UID:87378-1774596600-1774612800@cfc.org.br
SUMMARY:CRCBA - Oficina: Atualização Trabalhista e Previdenciária
DESCRIPTION:Evento: Presencial\n\nPalestrante: Gilmar Mendes\n\nLink de inscrição: https://www1.cfc.org.br/evento?A2B
URL:https://cfc.org.br/eventoscfc/crcba-oficina-atualizacao-trabalhista-e-previdenciaria/
LOCATION:Av. João Fraga Brandão\, 125\, Bairro Peru
ORGANIZER;CN="CRCBA":MAILTO:desenprof@crc-ba.org.br
END:VEVENT
END:VCALENDAR