BEGIN:VCALENDAR
VERSION:2.0
PRODID:-//::Conselho Federal de Contabilidade:: - ECPv4.0.1//NONSGML v1.0//EN
CALSCALE:GREGORIAN
METHOD:PUBLISH
X-WR-CALNAME:::Conselho Federal de Contabilidade::
X-ORIGINAL-URL:https://cfc.org.br
X-WR-CALDESC:Events for ::Conselho Federal de Contabilidade::
BEGIN:VEVENT
DTSTART;TZID="America/Sao_Paulo":20260408T083000
DTEND;TZID="America/Sao_Paulo":20260408T173000
DTSTAMP:20260420T112508
CREATED:20260304T155238
LAST-MODIFIED:20260304T155238
UID:87388-1775637000-1775669400@cfc.org.br
SUMMARY:CRCBA - Curso: Reforma Tributária - Abordagens Práticas
DESCRIPTION:Evento: Presencial\n\nPalestrante: Renata da Cruz Dias\n\nLink de inscrição: https://www1.cfc.org.br/evento?NYF
URL:https://cfc.org.br/eventoscfc/crcba-curso-reforma-tributaria-abordagens-praticas/
LOCATION: CEO SSA SHOPPING\, Torre Londres 31° andar - Av. Tancredo Neves\, 2539 - Caminho das Árvores\, Salvador/BA
ORGANIZER;CN="CRCBA":MAILTO:desenprof@crc-ba.org.br
END:VEVENT
END:VCALENDAR