BEGIN:VCALENDAR
VERSION:2.0
PRODID:-//::Conselho Federal de Contabilidade:: - ECPv4.0.1//NONSGML v1.0//EN
CALSCALE:GREGORIAN
METHOD:PUBLISH
X-WR-CALNAME:::Conselho Federal de Contabilidade::
X-ORIGINAL-URL:https://cfc.org.br
X-WR-CALDESC:Events for ::Conselho Federal de Contabilidade::
BEGIN:VEVENT
DTSTART;TZID="America/Sao_Paulo":20250527T130000
DTEND;TZID="America/Sao_Paulo":20250527T173000
DTSTAMP:20260425T182251
CREATED:20250424T113142
LAST-MODIFIED:20250424T113142
UID:76614-1748350800-1748367000@cfc.org.br
SUMMARY:CRCBA - Atualizações Trabalhistas
DESCRIPTION:Evento: Presencial\n\nPalestrante: Gilmar Mendes\n\nLink de inscrição: https://www1.cfc.org.br/evento?J2R
URL:https://cfc.org.br/eventoscfc/crcba-atualizacoes-trabalhistas-2/
LOCATION:Ed. CEO SSA  Shopping - Av. Tancredo Neves\,  2539 - Caminho das Árvores\,  Salvador/BA
ORGANIZER;CN="CRCBA":MAILTO:desenprof@crc-ba.org.br
END:VEVENT
END:VCALENDAR