BEGIN:VCALENDAR
VERSION:2.0
PRODID:-//::Conselho Federal de Contabilidade:: - ECPv4.0.1//NONSGML v1.0//EN
CALSCALE:GREGORIAN
METHOD:PUBLISH
X-WR-CALNAME:::Conselho Federal de Contabilidade::
X-ORIGINAL-URL:https://cfc.org.br
X-WR-CALDESC:Events for ::Conselho Federal de Contabilidade::
BEGIN:VEVENT
DTSTART;TZID="America/Sao_Paulo":20231010T100000
DTEND;TZID="America/Sao_Paulo":20231010T120000
DTSTAMP:20260420T024136
CREATED:20230824T140353
LAST-MODIFIED:20230824T140353
UID:55767-1696932000-1696939200@cfc.org.br
SUMMARY:Câmara Técnica Debate “Contabilidade 5.0: Quem é o Contador?”
DESCRIPTION:Local: Canal Oficial do CRCSC no YouTube\nMais sobre o evento: CRCSC
URL:https://cfc.org.br/eventoscfc/camara-tecnica-debate-contabilidade-5-0-quem-e-o-contador/
END:VEVENT
END:VCALENDAR