BEGIN:VCALENDAR
VERSION:2.0
PRODID:-//::Conselho Federal de Contabilidade:: - ECPv4.0.1//NONSGML v1.0//EN
CALSCALE:GREGORIAN
METHOD:PUBLISH
X-WR-CALNAME:::Conselho Federal de Contabilidade::
X-ORIGINAL-URL:https://cfc.org.br
X-WR-CALDESC:Events for ::Conselho Federal de Contabilidade::
BEGIN:VEVENT
DTSTART;TZID="America/Sao_Paulo":20260401T083000
DTEND;TZID="America/Sao_Paulo":20260401T173000
DTSTAMP:20260421T060235
CREATED:20260304T133916
LAST-MODIFIED:20260304T133916
UID:87321-1775032200-1775064600@cfc.org.br
SUMMARY:CRCPE - Imposto sobre Serviço – ISS
DESCRIPTION:Evento: On-line\n\nPalestrante: Rodrigo Dias\n\nLink de inscrição: https://crcpe.org.br/sistema-de-cursos/
URL:https://cfc.org.br/eventoscfc/crcpe-imposto-sobre-servico-iss-3/
ORGANIZER;CN="CRCPE":MAILTO:educacao@crcpe.org.br
END:VEVENT
BEGIN:VEVENT
DTSTART;TZID="America/Sao_Paulo":20260401T090000
DTEND;TZID="America/Sao_Paulo":20260401T090000
DTSTAMP:20260421T060235
CREATED:20260312T132520
LAST-MODIFIED:20260312T132520
UID:87986-1775034000-1775034000@cfc.org.br
SUMMARY:CRCPR - Escola Técnica CRCPR - Balanços e Demonstrativos na Habilitação de Empresas Licitantes
DESCRIPTION:Evento: On-line\n\nPalestrante:  Ivens de Oliveira - Administrador\, Economista e Mestre em Engenharia de Produção. Delegado Municipal do Conselho Regional de Economia do Estado de São Paulo (CORECON-SP) em Piracicaba/SP\, e Representante do Conselho Regional de Administração do Estado de São Paulo (CRA-SP) em Piracicaba/SP. Atua na área pública desde 2007\, especificamente com licitação\, contratos administrativos\, orçamento público e planejamento governamental. Docente em cursos de Graduação e Pós-Graduação desde 2008 em municípios da Região Metropolitana de Piracicaba/SP.\n\nLink de inscrição: https://www2.crcpr.org.br/desenprofi/portal/eventos/detalhe/1747
URL:https://cfc.org.br/eventoscfc/crcpr-escola-tecnica-crcpr-balancos-e-demonstrativos-na-habilitacao-de-empresas-licitantes/
ORGANIZER;CN="CRCPR":MAILTO:sibelli.cristina@crcpr.org.br
END:VEVENT
BEGIN:VEVENT
DTSTART;TZID="America/Sao_Paulo":20260407T203000
DTEND;TZID="America/Sao_Paulo":20260407T203000
DTSTAMP:20260421T060235
CREATED:20260304T134322
LAST-MODIFIED:20260304T134322
UID:87326-1775593800-1775593800@cfc.org.br
SUMMARY:CRCPE - Agentes de IA e Automação de Processos com Foco na Reforma Tributária
DESCRIPTION:Evento: On-line\n\nPalestrante: Carlos Chelfo\n\nLink de inscrição: https://crcpe.org.br/sistema-de-cursos/
URL:https://cfc.org.br/eventoscfc/crcpe-agentes-de-ia-e-automacao-de-processos-com-foco-na-reforma-tributaria/
ORGANIZER;CN="CRCPE":MAILTO:educacao@crcpe.org.br
END:VEVENT
BEGIN:VEVENT
DTSTART;TZID="America/Sao_Paulo":20260408T083000
DTEND;TZID="America/Sao_Paulo":20260408T123000
DTSTAMP:20260421T060235
CREATED:20260304T135508
LAST-MODIFIED:20260304T135508
UID:87331-1775637000-1775651400@cfc.org.br
SUMMARY:CRCPE - Agentes de IA e Automação de Processos com Foco na Reforma Tributária
DESCRIPTION:Evento: On-line\n\nPalestrante: Carlos Chelfo\n\nLink de inscrição: https://crcpe.org.br/sistema-de-cursos/
URL:https://cfc.org.br/eventoscfc/crcpe-agentes-de-ia-e-automacao-de-processos-com-foco-na-reforma-tributaria-2/
ORGANIZER;CN="CRCPE":MAILTO:educacao@crcpe.org.br
END:VEVENT
BEGIN:VEVENT
DTSTART;TZID="America/Sao_Paulo":20260408T083000
DTEND;TZID="America/Sao_Paulo":20260408T173000
DTSTAMP:20260421T060235
CREATED:20260304T155238
LAST-MODIFIED:20260304T155238
UID:87388-1775637000-1775669400@cfc.org.br
SUMMARY:CRCBA - Curso: Reforma Tributária - Abordagens Práticas
DESCRIPTION:Evento: Presencial\n\nPalestrante: Renata da Cruz Dias\n\nLink de inscrição: https://www1.cfc.org.br/evento?NYF
URL:https://cfc.org.br/eventoscfc/crcba-curso-reforma-tributaria-abordagens-praticas/
LOCATION: CEO SSA SHOPPING\, Torre Londres 31° andar - Av. Tancredo Neves\, 2539 - Caminho das Árvores\, Salvador/BA
ORGANIZER;CN="CRCBA":MAILTO:desenprof@crc-ba.org.br
END:VEVENT
BEGIN:VEVENT
DTSTART;TZID="America/Sao_Paulo":20260408T090000
DTEND;TZID="America/Sao_Paulo":20260408T090000
DTSTAMP:20260421T060235
CREATED:20260305T170432
LAST-MODIFIED:20260305T170432
UID:87579-1775638800-1775638800@cfc.org.br
SUMMARY:CRCPR - Escola Técnica CRCPR - Reforma Tributária e os Reflexos sobre o Produtor Rural
DESCRIPTION:Evento: On-line\n\nPalestrante: Valdecir Mokwa - Graduado em Ciências Contábeis e em Direito. Pós-Graduado em Direito Tributário\, em Agronegócio e em Tributação do Agronegócio. Sócio Administrador da Assessoria e Consultoria Empresarial Ltda (AGRIDATA). Administrador Judicial nas Varas Cíveis de Colorado\, Paranavaí\, Nova Fátima\, Faxinal e Ubiratã\, bem como na 2ª e 3ª Varas Cíveis de Umuarama. Perito Judicial nas 1ª e 2ª Varas Cíveis de Família e Anexos de Maringá\, além da 3ª e 4ª Varas Cíveis da mesma comarca. Inventariante Dativo nas 1ª e 2ª Varas Cíveis de Família e Anexos de Maringá. Diretor Fundador do Núcleo Intersindical de Conciliação Trabalhista de Maringá.\n\nLink de inscrição: https://www2.crcpr.org.br/desenprofi/portal/eventos/detalhe/1728
URL:https://cfc.org.br/eventoscfc/crcpr-escola-tecnica-crcpr-reforma-tributaria-e-os-reflexos-sobre-o-produtor-rural/
ORGANIZER;CN="CRCPR":MAILTO:sibelli.cristina@crcpr.org.br
END:VEVENT
BEGIN:VEVENT
DTSTART;TZID="America/Sao_Paulo":20260409T083000
DTEND;TZID="America/Sao_Paulo":20260409T123000
DTSTAMP:20260421T060235
CREATED:20260304T135913
LAST-MODIFIED:20260304T135913
UID:87336-1775723400-1775737800@cfc.org.br
SUMMARY:CRCPE - Agentes de IA e Automação de Processos com Foco na Reforma Tributária
DESCRIPTION:Evento: On-line\n\nPalestrante: Carlos Chelfo\n\nLink de inscrição: https://crcpe.org.br/sistema-de-cursos/
URL:https://cfc.org.br/eventoscfc/crcpe-agentes-de-ia-e-automacao-de-processos-com-foco-na-reforma-tributaria-3/
ORGANIZER;CN="CRCPE":MAILTO:educacao@crcpe.org.br
END:VEVENT
BEGIN:VEVENT
DTSTART;TZID="America/Sao_Paulo":20260409T090000
DTEND;TZID="America/Sao_Paulo":20260409T090000
DTSTAMP:20260421T060235
CREATED:20260224T145106
LAST-MODIFIED:20260224T145106
UID:87050-1775725200-1775725200@cfc.org.br
SUMMARY:CRCMG - Café com o Contabilista sobre o Tema “Prestação de Contas Eleitorais 2026: Novidades e Desafios do Contador”
DESCRIPTION:Evento: On-line\n\nPalestrantes: Júlio César Diniz Rocha - Graduado em Ciências Contábeis\, Pós-Graduado em Pedagogia Institucional e em Direito Administrativo\, Palestrante\, Analista Judiciário e Coordenador de Controle de Contas Eleitorais e Partidárias do Tribunal Regional Eleitoral de Minas Gerais (TRE/MG)\, desde 2004.\n\nDomingos Rodrigues Zati - Graduado em Ciências Contábeis\, Pós-Graduado em Direito Eleitoral\, Chefe da Seção de Auditoria Fiscalização de Contas Eleitorais e Servidor do TRE/MG.\n\nMediadores: Evani Lúcio de Melo - Conselheiro do CRCMG; Norma Suely Gonçalves - Contadora\, Graduada em Direito e Especialista em Prestação de Contas Eleitorais\, desde 2012; Valéria Batista Nogueira - Conselheira do CRCMG.\n\nLink de inscrição: https://crcmg.org.br/desenvolvimento-profissional/inscricoes?termosid=128&mes&ano\n\nLink do Youtube: https://youtube.com/live/slHyzp-8vYI?feature=share\n\nPontuação e certificado aos participantes inscritos que atingirem 75% de presença na TV CRCMG\, no YouTube.\n\nPontuação no Programa de Educação Profissional Continuada: AUD: 3; PROGP-RT: 3; PERITOS: 3\n\n 
URL:https://cfc.org.br/eventoscfc/crcmg-cafe-com-o-contabilista-sobre-o-tema-prestacao-de-contas-eleitorais-2026-novidades-e-desafios-do-contador/
ORGANIZER;CN="CRCMG":MAILTO:gedep@crcmg.org.br
END:VEVENT
BEGIN:VEVENT
DTSTART;TZID="America/Sao_Paulo":20260410T080000
DTEND;TZID="America/Sao_Paulo":20260410T170000
DTSTAMP:20260421T060235
CREATED:20260309T170609
LAST-MODIFIED:20260309T171112
UID:87716-1775808000-1775840400@cfc.org.br
SUMMARY:CRCMS - XXIV Encontro Estadual de Contabilidade do Agronegócio do MS
DESCRIPTION:Evento: Híbrido
URL:https://cfc.org.br/eventoscfc/crcms-xxiv-encontro-estadual-de-contabilidade-do-agronegocio-do-ms/
ORGANIZER;CN="CRCMS":MAILTO:eventos@crcms.org.br
END:VEVENT
BEGIN:VEVENT
DTSTART;TZID="America/Sao_Paulo":20260414T083000
DTEND;TZID="America/Sao_Paulo":20260414T173000
DTSTAMP:20260421T060235
CREATED:20260304T140147
LAST-MODIFIED:20260304T140147
UID:87341-1776155400-1776187800@cfc.org.br
SUMMARY:CRCPE - Praticando Simples Nacional
DESCRIPTION:Evento: On-line\n\nPalestrante: Rodrigo Dias\n\nLink de inscrição: https://crcpe.org.br/sistema-de-cursos/\n\n 
URL:https://cfc.org.br/eventoscfc/crcpe-praticando-simples-nacional-2/
ORGANIZER;CN="CRCPE":MAILTO:educacao@crcpe.org.br
END:VEVENT
BEGIN:VEVENT
DTSTART;TZID="America/Sao_Paulo":20260415T083000
DTEND;TZID="America/Sao_Paulo":20260415T123000
DTSTAMP:20260421T060235
CREATED:20260304T140539
LAST-MODIFIED:20260304T140539
UID:87346-1776241800-1776256200@cfc.org.br
SUMMARY:CRCPE - Praticando Simples Nacional
DESCRIPTION:Evento: On-line\n\nPalestrante: Rodrigo Dias\n\nLink de inscrição: https://crcpe.org.br/sistema-de-cursos/
URL:https://cfc.org.br/eventoscfc/crcpe-praticando-simples-nacional-3/
ORGANIZER;CN="CRCPE":MAILTO:educacao@crcpe.org.br
END:VEVENT
BEGIN:VEVENT
DTSTART;TZID="America/Sao_Paulo":20260415T090000
DTEND;TZID="America/Sao_Paulo":20260415T090000
DTSTAMP:20260421T060235
CREATED:20260305T172146
LAST-MODIFIED:20260305T172146
UID:87585-1776243600-1776243600@cfc.org.br
SUMMARY:CRCPR - Escola Técnica CRCPR - Estratégias ESG Gerando Valor para os Negócios
DESCRIPTION:Evento: On-line\n\nPalestrante: Fernanda Féder Paraná - Bióloga e Pós-Graduada em Estratégia e Sustentabilidade Empresarial. Sólida Trajetória em Sustentabilidade\, ESG\, Diversidade & Inclusão (D&I)\, Inovação e Gestão do Ciclo de Vida de Produtos. Fundadora da GAIA – Negócios de Impacto. Consultora de Projetos Estratégicos. Professora Convidada da PUCPR. Docente da Faculdade Ibrate. Auditora\, Consultora e Instrutora em ESG pelo Bureau Veritas. Produtora de Conteúdo na Hotmilk Academy/PUCPR e UNINTER. Palestrante\, Moderadora e Painelista em Fóruns e Congressos Nacionais e Internacionais sobre ESG\, Economia Circular e Gestão do Ciclo de Vida. Autora e Coautora de Artigos Técnicos. Formação Complementar em Liderança\, Gestão de Projetos\, Avaliação do Ciclo de Vida (ACV) e Sustentabilidade Aplicada.\n\nLink de inscrição: https://www2.crcpr.org.br/desenprofi/portal/eventos/detalhe/1735
URL:https://cfc.org.br/eventoscfc/crcpr-escola-tecnica-crcpr-estrategias-esg-gerando-valor-para-os-negocios/
ORGANIZER;CN="CRCPR":MAILTO:sibelli.cristina@crcpr.org.br
END:VEVENT
BEGIN:VEVENT
DTSTART;TZID="America/Sao_Paulo":20260422T090000
DTEND;TZID="America/Sao_Paulo":20260422T120000
DTSTAMP:20260421T060235
CREATED:20260304T142946
LAST-MODIFIED:20260304T142946
UID:87353-1776848400-1776859200@cfc.org.br
SUMMARY:CRCPE - Reforma Tributária Crédito do IBS e da CBS nas Aquisições (EC 132/2023 e LC 214/2025)
DESCRIPTION:Evento: On-line\n\nPalestrante: Inês Oliveira\n\nLink de inscrição: https://crcpe.org.br/sistema-de-cursos/
URL:https://cfc.org.br/eventoscfc/crcpe-reforma-tributaria-credito-do-ibs-e-da-cbs-nas-aquisicoes-ec-132-2023-e-lc-214-2025/
ORGANIZER;CN="CRCPE":MAILTO:educacao@crcpe.org.br
END:VEVENT
BEGIN:VEVENT
DTSTART;TZID="America/Sao_Paulo":20260422T090000
DTEND;TZID="America/Sao_Paulo":20260422T090000
DTSTAMP:20260421T060235
CREATED:20260305T172831
LAST-MODIFIED:20260305T172832
UID:87590-1776848400-1776848400@cfc.org.br
SUMMARY:CRCPR - Escola Técnica CRCPR - Contabilidade de Criptoativos: Aspectos Contábeis\, Fiscais e Regulatórios
DESCRIPTION:Evento: On-line\n\nPalestrante: Sidnei Borakouski - Profissional da área contábil com mais de 28 anos de atuação contínua\, com sólida experiência em contabilidade tradicional\, fiscal\, trabalhista e processos de digitalização. Atua há mais de 6 anos de forma especializada em contabilidade e tributação de criptoativos\, assessorando pessoas físicas e jurídicas na correta classificação\, escrituração\, apuração de tributos e cumprimento de obrigações\nacessórias relacionadas a ativos digitais. Possui experiência prática em ambientes regulatórios em constante transformação\, com foco em conformidade fiscal\, mitigação de riscos e orientação técnica ao profissional contábil frente às novas demandas do mercado.\n\nLink de inscrição: https://www2.crcpr.org.br/desenprofi/portal/eventos/detalhe/1741
URL:https://cfc.org.br/eventoscfc/crcpr-escola-tecnica-crcpr-contabilidade-de-criptoativos-aspectos-contabeis-fiscais-e-regulatorios/
ORGANIZER;CN="CRCPR":MAILTO:sibelli.cristina@crcpr.org.br
END:VEVENT
BEGIN:VEVENT
DTSTART;TZID="America/Sao_Paulo":20260423T090000
DTEND;TZID="America/Sao_Paulo":20260423T120000
DTSTAMP:20260421T060235
CREATED:20260304T143327
LAST-MODIFIED:20260304T143327
UID:87358-1776934800-1776945600@cfc.org.br
SUMMARY:CRCPE - Reforma Tributária Crédito do IBS e da CBS nas Aquisições (EC 132/2023 e LC 214/2025)
DESCRIPTION:Evento: On-line\n\nPalestrante: Inês Oliveira\n\nLink de inscrição: https://crcpe.org.br/sistema-de-cursos/
URL:https://cfc.org.br/eventoscfc/crcpe-reforma-tributaria-credito-do-ibs-e-da-cbs-nas-aquisicoes-ec-132-2023-e-lc-214-2025-2/
ORGANIZER;CN="CRCPE":MAILTO:educacao@crcpe.org.br
END:VEVENT
BEGIN:VEVENT
DTSTART;TZID="America/Sao_Paulo":20260427T190000
DTEND;TZID="America/Sao_Paulo":20260428T190000
DTSTAMP:20260421T060235
CREATED:20260115T170317
LAST-MODIFIED:20260115T170317
UID:85906-1777316400-1777402800@cfc.org.br
SUMMARY:CRCSC - 6° Seminário Catarinense de Estudantes de Ciências Contábeis “Contabilidade Além dos Números”
DESCRIPTION:Evento: On-line\n\nLink de inscrição: CRCSC | 6° Seminário Catarinense de Estudantes de Ciências Contábeis “Contabilidade Além dos Números”
URL:https://cfc.org.br/eventoscfc/crcsc-6-seminario-catarinense-de-estudantes-de-ciencias-contabeis-contabilidade-alem-dos-numeros/
ORGANIZER;CN="CRCSC":MAILTO:coordenador.desenvolvimento@crcsc.org.br
END:VEVENT
BEGIN:VEVENT
DTSTART;TZID="America/Sao_Paulo":20260429T083000
DTEND;TZID="America/Sao_Paulo":20260429T123000
DTSTAMP:20260421T060235
CREATED:20260304T143615
LAST-MODIFIED:20260304T143615
UID:87363-1777451400-1777465800@cfc.org.br
SUMMARY:CRCPE - ICMS ST
DESCRIPTION:Evento: On-line\n\nPalestrante: Rodrigo Dias\n\nLink de inscrição: https://crcpe.org.br/sistema-de-cursos/
URL:https://cfc.org.br/eventoscfc/crcpe-icms-st-3/
ORGANIZER;CN="CRCPE":MAILTO:educacao@crcpe.org.br
END:VEVENT
BEGIN:VEVENT
DTSTART;TZID="America/Sao_Paulo":20260429T090000
DTEND;TZID="America/Sao_Paulo":20260429T090000
DTSTAMP:20260421T060235
CREATED:20260312T133333
LAST-MODIFIED:20260312T133333
UID:87991-1777453200-1777453200@cfc.org.br
SUMMARY:CRCPR - Escola Técnica CRCPR - Planejamento Tributário: Mecanismos Legais para Redução da Carga Tributária e Proteção de Ativos
DESCRIPTION:Evento: On-line\n\nPalestrante: Dilson Paulo Oliveira Peres Junior - Sócio Fundador da PSP Advogados\, com experiência em Direito Tributário. Possui Formação em Direito e Pós-Graduações em Direito Tributário\, Processual Civil e Empresarial. Fundador do Instituto Brasileiro de Recuperação de Créditos Tributários. Membro do G4 Club.\n\nLink de inscrição: https://www2.crcpr.org.br/desenprofi/portal/eventos/detalhe/1746
URL:https://cfc.org.br/eventoscfc/crcpr-escola-tecnica-crcpr-planejamento-tributario-mecanismos-legais-para-reducao-da-carga-tributaria-e-protecao-de-ativos/
ORGANIZER;CN="CRCPR":MAILTO:sibelli.cristina@crcpr.org.br
END:VEVENT
END:VCALENDAR