BEGIN:VCALENDAR
VERSION:2.0
PRODID:-//::Conselho Federal de Contabilidade:: - ECPv4.0.1//NONSGML v1.0//EN
CALSCALE:GREGORIAN
METHOD:PUBLISH
X-WR-CALNAME:::Conselho Federal de Contabilidade::
X-ORIGINAL-URL:https://cfc.org.br
X-WR-CALDESC:Events for ::Conselho Federal de Contabilidade::
BEGIN:VEVENT
DTSTART;TZID="America/Sao_Paulo":20231005T080000
DTEND;TZID="America/Sao_Paulo":20231006T170000
DTSTAMP:20260421T083048
CREATED:20230414T125050
LAST-MODIFIED:20230414T125050
UID:52787-1696492800-1696611600@cfc.org.br
SUMMARY:4ª Convenção de Contabilidade do Estado do Piauí Teresina/PI
DESCRIPTION:Para maiores informações\, gentileza acessar:\n\nhttps://crcpi.com.br › new\n\n\n\n\n\n\n\n\n\n\n\n\n\n\n\n\n\n\n\n\n\n\n\n\n\n
URL:https://cfc.org.br/eventoscfc/4a-convencao-de-contabilidade-do-estado-do-piaui-teresina-pi/
LOCATION:Teresina\, PI\, Brasil
END:VEVENT
END:VCALENDAR