BEGIN:VCALENDAR
VERSION:2.0
PRODID:-//::Conselho Federal de Contabilidade:: - ECPv4.0.1//NONSGML v1.0//EN
CALSCALE:GREGORIAN
METHOD:PUBLISH
X-WR-CALNAME:::Conselho Federal de Contabilidade::
X-ORIGINAL-URL:https://cfc.org.br
X-WR-CALDESC:Events for ::Conselho Federal de Contabilidade::
BEGIN:VEVENT
DTSTART;TZID="America/Sao_Paulo":20230728T080000
DTEND;TZID="America/Sao_Paulo":20231231T170000
DTSTAMP:20260423T095218
CREATED:20230807T124227
LAST-MODIFIED:20230807T124227
UID:55367-1690531200-1704042000@cfc.org.br
SUMMARY:Auto Estudo
DESCRIPTION:Escrituração Contábil incluindo a digital\n\nMais sobre o evento: CRCSP
URL:https://cfc.org.br/eventoscfc/auto-estudo-2/
END:VEVENT
BEGIN:VEVENT
DTSTART;VALUE=DATE:20231129
DTEND;VALUE=DATE:20231130
DTSTAMP:20260423T095218
CREATED:20231018
LAST-MODIFIED:20231018
UID:56826-1701216000-1701388799@cfc.org.br
SUMMARY:5ª Convenção Alagoana de Contabilidade
DESCRIPTION:
URL:https://cfc.org.br/eventoscfc/5a-convencao-alagoana-de-contabilidade/
END:VEVENT
BEGIN:VEVENT
DTSTART;TZID="America/Sao_Paulo":20231130T020000
DTEND;TZID="America/Sao_Paulo":20231130T030000
DTSTAMP:20260423T095218
CREATED:20231122T130412
LAST-MODIFIED:20231122T130413
UID:57451-1701309600-1701313200@cfc.org.br
SUMMARY:Escola Técnica Contabilidade Pública - Episódio 11 - Compliance no Setor Público: Programas de Integridade e Gestão de Riscos
DESCRIPTION:Pontuação EPC: 1 ponto para todas as funções.
URL:https://cfc.org.br/eventoscfc/escola-tecnica-contabilidade-publica-episodio-11-compliance-no-setor-publico-programas-de-integridade-e-gestao-de-riscos/
END:VEVENT
BEGIN:VEVENT
DTSTART;TZID="America/Sao_Paulo":20231130T080000
DTEND;TZID="America/Sao_Paulo":20231202T180000
DTSTAMP:20260423T095218
CREATED:20230224T202027
LAST-MODIFIED:20231016T195108
UID:51964-1701331200-1701540000@cfc.org.br
SUMMARY:60ª CONCERJ e 2º Encontro de Jovens Lideranças Contábeis do Estado do Rio de Janeiro
DESCRIPTION:Informamos que a 60ª CONCERJ será realizada nos dias 30 de novembro e 01 de dezembro e o 2º Encontro de Jovens Lideranças Contábeis do Estado do Rio de Janeiro no dia 02 de dezembro.\n\nPara mais informações\, gentileza acessar:\n\nhttps://www.crc.org.br/concerj/\n\n 
URL:https://cfc.org.br/eventoscfc/60a-concerj-grussai-rj/
LOCATION:Av. Salvador Allende\, 6555\, Barra da Tijuca\, Rio de Janeiro\, 22783-127\, Brasil
END:VEVENT
BEGIN:VEVENT
DTSTART;TZID="America/Sao_Paulo":20231130T193000
DTEND;TZID="America/Sao_Paulo":20231130T230000
DTSTAMP:20260423T095218
CREATED:20230929T150851
LAST-MODIFIED:20230929T151508
UID:56456-1701372600-1701385200@cfc.org.br
SUMMARY:LANÇAMENTO DA EDIÇÃO COMEMORATIVA ALUSIVA AOS 75 ANOS DO CONSELHO REGIONAL DE CONTABILIDADE DO ESPÍRITO SANTO
DESCRIPTION:Evento presencial no Espaço Patrick Ribeiro Airport Vitória\n\nInscrições: CRCES
URL:https://cfc.org.br/eventoscfc/lancamento-da-edicao-comemorativa-alusiva-aos-75-anos-do-conselhor-regional-de-contabilidade-do-espirito-santo/
END:VEVENT
BEGIN:VEVENT
DTSTART;TZID="America/Sao_Paulo":20231130T193000
DTEND;TZID="America/Sao_Paulo":20231130T220000
DTSTAMP:20260423T095218
CREATED:20231110T135639
LAST-MODIFIED:20231110T135719
UID:57206-1701372600-1701381600@cfc.org.br
SUMMARY:Lançamento do Livro em Comemoração aos 75 anos de criação do CRCES
DESCRIPTION:
URL:https://cfc.org.br/eventoscfc/lancamento-do-livro-em-comemoracao-aos-75-anos-de-criacao-do-crces/
END:VEVENT
END:VCALENDAR