BEGIN:VCALENDAR
VERSION:2.0
PRODID:-//::Conselho Federal de Contabilidade:: - ECPv4.0.1//NONSGML v1.0//EN
CALSCALE:GREGORIAN
METHOD:PUBLISH
X-WR-CALNAME:::Conselho Federal de Contabilidade::
X-ORIGINAL-URL:https://cfc.org.br
X-WR-CALDESC:Events for ::Conselho Federal de Contabilidade::
BEGIN:VEVENT
DTSTART;TZID="America/Sao_Paulo":20230728T080000
DTEND;TZID="America/Sao_Paulo":20231231T170000
DTSTAMP:20260423T071450
CREATED:20230807T124227
LAST-MODIFIED:20230807T124227
UID:55367-1690531200-1704042000@cfc.org.br
SUMMARY:Auto Estudo
DESCRIPTION:Escrituração Contábil incluindo a digital\n\nMais sobre o evento: CRCSP
URL:https://cfc.org.br/eventoscfc/auto-estudo-2/
END:VEVENT
BEGIN:VEVENT
DTSTART;TZID="America/Sao_Paulo":20231128T090000
DTEND;TZID="America/Sao_Paulo":20231128T120000
DTSTAMP:20260423T071450
CREATED:20231113T191411
LAST-MODIFIED:20231113T191411
UID:57290-1701162000-1701172800@cfc.org.br
SUMMARY:4° Fórum Catarinense on-line de Perícia - Etapa 4
DESCRIPTION:
URL:https://cfc.org.br/eventoscfc/4-forum-catarinense-on-line-de-pericia-etapa-4/
END:VEVENT
BEGIN:VEVENT
DTSTART;TZID="America/Sao_Paulo":20231128T160000
DTEND;TZID="America/Sao_Paulo":20231128T170000
DTSTAMP:20260423T071450
CREATED:20231123T184505
LAST-MODIFIED:20231123T184505
UID:57473-1701187200-1701190800@cfc.org.br
SUMMARY:A Fiscalização como mecanismo de valorização profissional
DESCRIPTION:Palestrante: Louis de Oliveira - Diretor de Prerrogativas do CRCGO
URL:https://cfc.org.br/eventoscfc/a-fiscalizacao-como-mecanismo-de-valorizacao-profissional/
END:VEVENT
END:VCALENDAR