BEGIN:VCALENDAR
VERSION:2.0
PRODID:-//::Conselho Federal de Contabilidade:: - ECPv4.0.1//NONSGML v1.0//EN
CALSCALE:GREGORIAN
METHOD:PUBLISH
X-WR-CALNAME:::Conselho Federal de Contabilidade::
X-ORIGINAL-URL:https://cfc.org.br
X-WR-CALDESC:Events for ::Conselho Federal de Contabilidade::
BEGIN:VEVENT
DTSTART;TZID="America/Sao_Paulo":20230728T080000
DTEND;TZID="America/Sao_Paulo":20231231T170000
DTSTAMP:20260422T112131
CREATED:20230807T124227
LAST-MODIFIED:20230807T124227
UID:55367-1690531200-1704042000@cfc.org.br
SUMMARY:Auto Estudo
DESCRIPTION:Escrituração Contábil incluindo a digital\n\nMais sobre o evento: CRCSP
URL:https://cfc.org.br/eventoscfc/auto-estudo-2/
END:VEVENT
BEGIN:VEVENT
DTSTART;TZID="America/Sao_Paulo":20231115T080000
DTEND;TZID="America/Sao_Paulo":20231117T180000
DTSTAMP:20260422T112131
CREATED:20230227T193849
LAST-MODIFIED:20230622T121919
UID:52031-1700035200-1700244000@cfc.org.br
SUMMARY:20ª CONESCAP e 17ª Convenção CRCCE - Fortaleza/CE
DESCRIPTION:Para maiores informações\, gentileza acessar:\n\nhttps://www.crc-ce.org.br
URL:https://cfc.org.br/eventoscfc/conescap-fortaleza-ce/
LOCATION:Fortaleza\, CE\, Brasil
END:VEVENT
BEGIN:VEVENT
DTSTART;TZID="America/Sao_Paulo":20231116T140000
DTEND;TZID="America/Sao_Paulo":20231116T150000
DTSTAMP:20260422T112131
CREATED:20231122T125851
LAST-MODIFIED:20231122T125851
UID:57441-1700143200-1700146800@cfc.org.br
SUMMARY:Escola Técnica Contabilidade Pública - Episódio 10 - Obrigações Acessórias - DCTFWeb
DESCRIPTION:Pontuação EPC: 1 ponto para todas as funções.
URL:https://cfc.org.br/eventoscfc/escola-tecnica-contabilidade-publica-episodio-10-obrigacoes-acessorias-dctfweb/
END:VEVENT
END:VCALENDAR