BEGIN:VCALENDAR
VERSION:2.0
PRODID:-//::Conselho Federal de Contabilidade:: - ECPv4.0.1//NONSGML v1.0//EN
CALSCALE:GREGORIAN
METHOD:PUBLISH
X-WR-CALNAME:::Conselho Federal de Contabilidade::
X-ORIGINAL-URL:https://cfc.org.br
X-WR-CALDESC:Events for ::Conselho Federal de Contabilidade::
BEGIN:VEVENT
DTSTART;TZID="America/Sao_Paulo":20231030T191500
DTEND;TZID="America/Sao_Paulo":20231030T213000
DTSTAMP:20260421T135129
CREATED:20231030T144421
LAST-MODIFIED:20231030T144421
UID:56994-1698693300-1698701400@cfc.org.br
SUMMARY:1º dia - 2º Ciclo de Estudos Contábeis do Paraná e 8º Seminário Jovens Lideranças Contábeis
DESCRIPTION:
URL:https://cfc.org.br/eventoscfc/1o-dia-2o-ciclo-de-estudos-contabeis-do-parana-e-8o-seminario-jovens-liderancas-contabeis/
END:VEVENT
END:VCALENDAR